BEGIN:VCALENDAR
VERSION:2.0
PRODID:-//Colorado National Monument Association - ECPv6.15.18//NONSGML v1.0//EN
CALSCALE:GREGORIAN
METHOD:PUBLISH
X-WR-CALNAME:Colorado National Monument Association
X-ORIGINAL-URL:https://coloradonma.org
X-WR-CALDESC:Events for Colorado National Monument Association
REFRESH-INTERVAL;VALUE=DURATION:PT1H
X-Robots-Tag:noindex
X-PUBLISHED-TTL:PT1H
BEGIN:VTIMEZONE
TZID:America/Denver
BEGIN:DAYLIGHT
TZOFFSETFROM:-0700
TZOFFSETTO:-0600
TZNAME:MDT
DTSTART:20240310T090000
END:DAYLIGHT
BEGIN:STANDARD
TZOFFSETFROM:-0600
TZOFFSETTO:-0700
TZNAME:MST
DTSTART:20241103T080000
END:STANDARD
BEGIN:DAYLIGHT
TZOFFSETFROM:-0700
TZOFFSETTO:-0600
TZNAME:MDT
DTSTART:20250309T090000
END:DAYLIGHT
BEGIN:STANDARD
TZOFFSETFROM:-0600
TZOFFSETTO:-0700
TZNAME:MST
DTSTART:20251102T080000
END:STANDARD
BEGIN:DAYLIGHT
TZOFFSETFROM:-0700
TZOFFSETTO:-0600
TZNAME:MDT
DTSTART:20260308T090000
END:DAYLIGHT
BEGIN:STANDARD
TZOFFSETFROM:-0600
TZOFFSETTO:-0700
TZNAME:MST
DTSTART:20261101T080000
END:STANDARD
END:VTIMEZONE
BEGIN:VEVENT
DTSTART;TZID=America/Denver:20250801T180000
DTEND;TZID=America/Denver:20250801T210000
DTSTAMP:20260421T055759
CREATED:20250715T192601Z
LAST-MODIFIED:20250721T193151Z
UID:10000942-1754071200-1754082000@coloradonma.org
SUMMARY:Sunset Plein Air Painting at Independence Overlook
DESCRIPTION:Enjoy the golden hour with Monica Esposito while she paints live on location\, capturing the vibrant colors of the Monument’s iconic red rock canyons and desert vistas. Guests are invited to bring their own sketchbooks or paints—or simply come to watch\, chat\, and take in the scenery. This will be an open house type of event. You may come and go as you please.   \nMonica Esposito is a fine art artist and registered nurse located in Grand Junction\, Colorado. Receiving her Bachelor of Fine Arts degree with a concentration in painting from the University of Texas in 2001. She has spent her life exploring the western landscape for her inspiration and credits the art and life of Georgia O’Keeffe as one of her strongest influences.   \nDetails:  \nDate: August 1st \nTime: 6:00 PM – Sunset  \nLocation: Independence Overlook \nWhat to Bring:   \n\nLawn chair or blanket \n\n\nWater and snacks or picnic dinner \n\n\nYour own plein air setup (optional) \n\n\n Sun umbrella or canopy (optional) \n\nNote: Park passes are required. Carpooling is encouraged. The event may be cancelled or postponed due to the weather. 
URL:https://coloradonma.org/event/sunset-plein-air-painting-at-independence-overlook-with-our-community-artist-in-park-8-1-2025/
LOCATION:Independence Overlook
CATEGORIES:Community Artist in Park
ATTACH;FMTTYPE=image/png:https://coloradonma.org/wp-content/uploads/2025/07/Copy-of-CAIP-2025-Logo.png
ORGANIZER;CN="Jes Rich":MAILTO:programs@coloradonma.org
END:VEVENT
BEGIN:VEVENT
DTSTART;TZID=America/Denver:20250829T060000
DTEND;TZID=America/Denver:20250829T090000
DTSTAMP:20260421T055759
CREATED:20250730T034417Z
LAST-MODIFIED:20250829T115714Z
UID:10000947-1756447200-1756458000@coloradonma.org
SUMMARY:CANCELED - Sunrise Paint & Hike on Otto's Trail
DESCRIPTION:Unfortunately\, this event has been canceled because of the weather. \n  \nJoin us for a sunrise morning hike on Otto’s Trail and plein air painting session with our Community Artist in the Park\, Monica Esposito. We’ll enjoy a short\, scenic hike as the sun rises over the stunning canyon landscape then we’ll create our own artwork inspired by nature.   \nMonica will demo how to get started on an outdoor painting\, give tips and techniques for speedy work and some suggestions for quick studies while using watercolor or gouache. All skill levels are welcome!  \nMonica Esposito is a fine art artist and registered nurse located in Grand Junction\, Colorado. Receiving her Bachelor of Fine Arts degree with a concentration in painting from the University of Texas in 2001. She has spent her life exploring the western landscape for her inspiration and credits the art and life of Georgia O’Keeffe as one of her strongest influences.    \nDetails:    \n\nDate: Friday\, August 29th\n\n\nTime: 6:00 AM- 9:00 AM \n\n\nLocation: Otto’s Trail– Meet at the trailhead \n\n\nRegistration: Risk forms must be signed prior to beginning the hike.   \n\n\nDistance: 1 mile\, easy hike roundtrip- Plan for a total of 3 hours of hiking and painting time.   \n\n\nBring: Plein air set up-Travel watercolor or gouache set\, paper\, brushes with an easel is recommended- You may sit on the ground if you like or bring a camping chair. Lots of water\, snacks\, sunscreen\, sunglasses and a hat. \n\n\nNote:Hike may be cancelled or postponed due to weather conditions. Park passes are required. Carpooling is encouraged.   
URL:https://coloradonma.org/event/sunrise-paint-hike-on-ottos-trail-08-27-25/
LOCATION:Otto’s Trail
CATEGORIES:Community Artist in Park
ATTACH;FMTTYPE=image/png:https://coloradonma.org/wp-content/uploads/2025/07/Copy-of-CAIP-2025-Logo.png
ORGANIZER;CN="Jes Rich":MAILTO:programs@coloradonma.org
END:VEVENT
END:VCALENDAR