BEGIN:VCALENDAR
VERSION:2.0
PRODID:-//Colorado National Monument Association - ECPv6.15.18//NONSGML v1.0//EN
CALSCALE:GREGORIAN
METHOD:PUBLISH
X-WR-CALNAME:Colorado National Monument Association
X-ORIGINAL-URL:https://coloradonma.org
X-WR-CALDESC:Events for Colorado National Monument Association
REFRESH-INTERVAL;VALUE=DURATION:PT1H
X-Robots-Tag:noindex
X-PUBLISHED-TTL:PT1H
BEGIN:VTIMEZONE
TZID:America/Denver
BEGIN:DAYLIGHT
TZOFFSETFROM:-0700
TZOFFSETTO:-0600
TZNAME:MDT
DTSTART:20240310T090000
END:DAYLIGHT
BEGIN:STANDARD
TZOFFSETFROM:-0600
TZOFFSETTO:-0700
TZNAME:MST
DTSTART:20241103T080000
END:STANDARD
BEGIN:DAYLIGHT
TZOFFSETFROM:-0700
TZOFFSETTO:-0600
TZNAME:MDT
DTSTART:20250309T090000
END:DAYLIGHT
BEGIN:STANDARD
TZOFFSETFROM:-0600
TZOFFSETTO:-0700
TZNAME:MST
DTSTART:20251102T080000
END:STANDARD
BEGIN:DAYLIGHT
TZOFFSETFROM:-0700
TZOFFSETTO:-0600
TZNAME:MDT
DTSTART:20260308T090000
END:DAYLIGHT
BEGIN:STANDARD
TZOFFSETFROM:-0600
TZOFFSETTO:-0700
TZNAME:MST
DTSTART:20261101T080000
END:STANDARD
END:VTIMEZONE
BEGIN:VEVENT
DTSTART;TZID=America/Denver:20250909T063000
DTEND;TZID=America/Denver:20250909T093000
DTSTAMP:20260421T042557
CREATED:20250820T230735Z
LAST-MODIFIED:20250820T230735Z
UID:10000952-1757399400-1757410200@coloradonma.org
SUMMARY:Sunrise Paint & Hike on Serpents Trail
DESCRIPTION:Join us for a sunrise morning hike on Serpents Trail and plein air painting session with our Community Artist in the Park\, Monica Esposito. We’ll hike a very steep scenic trail as the sun rises over the valley onto the stunning canyon landscape\, then we’ll create our own artwork inspired by nature.  \nMonica will demo how to get started on an outdoor painting\, give tips and techniques for speedy work and some suggestions for quick studies while using watercolor or gouache. All skill levels are welcome! \nMonica Esposito is a fine art artist and registered nurse located in Grand Junction\, Colorado. Receiving her Bachelor of Fine Arts degree with a concentration in painting from the University of Texas in 2001. She has spent her life exploring the western landscape for her inspiration and credits the art and life of Georgia O’Keeffe as one of her strongest influences.   \nDetails:   \n\nDate: Tuesday\, September 9th\nTime: 6:30 AM- 9:30 AM\n\n\nLocation: Serpents Trail – Meet at the trailhead.\n\n\nRegistration: Risk forms must be signed prior to beginning the hike.  \n\n\nDistance: 2 mile steep and strenuous roundtrip hike- We will start from the bottom and stop half way to paint and then hike back down. Plan for a total of 3 hours of hiking and painting time.  \n\n\nBring: Plein air set up-Travel watercolor or gouache set\, paper\, brushes with an easel is recommended. Lots of water\, snacks\, sunscreen\, sunglasses and a hat.\n\n\nNote: Hike may be cancelled or postponed due to weather conditions. Park passes are required. Carpooling is encouraged.  
URL:https://coloradonma.org/event/sunrise-paint-hike-on-serpents-trail-9-9-2025/
LOCATION:Serpents Trail
CATEGORIES:Community Artist in Park
ATTACH;FMTTYPE=image/png:https://coloradonma.org/wp-content/uploads/2025/07/Copy-of-CAIP-2025-Logo.png
ORGANIZER;CN="Jes Rich":MAILTO:programs@coloradonma.org
END:VEVENT
BEGIN:VEVENT
DTSTART;TZID=America/Denver:20250924T063000
DTEND;TZID=America/Denver:20250924T093000
DTSTAMP:20260421T042557
CREATED:20250902T215306Z
LAST-MODIFIED:20250904T222756Z
UID:10000955-1758695400-1758706200@coloradonma.org
SUMMARY:Sunrise Paint & Hike on Otto's Trail
DESCRIPTION:Join us for a sunrise morning hike on Otto’s Trail and plein air painting session with our Community Artist in the Park\, Monica Esposito. We’ll enjoy a short\, scenic hike as the sun rises over the stunning canyon landscape then we’ll create our own artwork inspired by nature.    \nMonica will demo how to get started on an outdoor painting\, give tips and techniques for speedy work and some suggestions for quick studies while using watercolor or gouache. All skill levels are welcome!   \nMonica Esposito is a fine art artist and registered nurse located in Grand Junction\, Colorado. Receiving her Bachelor of Fine Arts degree with a concentration in painting from the University of Texas in 2001. She has spent her life exploring the western landscape for her inspiration and credits the art and life of Georgia O’Keeffe as one of her strongest influences.     \nDetails:     \n\nDate: Wednesday\, September 24th\n\n\nTime: 6:30 AM- 9:30 AM  \n\n\nLocation: Otto’s Trail– Meet at the trailhead  \n\n\nRegistration: Risk forms must be signed prior to beginning the hike.    \n\n\nDistance: 1 mile\, easy hike roundtrip- Plan for a total of 3 hours of hiking and painting time.    \n\n\nBring: Plein air set up-Travel watercolor or gouache set\, paper\, brushes with an easel is recommended- You may sit on the ground if you like or bring a camping chair. Lots of water\, snacks\, sunscreen\, sunglasses and a hat.  \n\n\nNote:Hike may be cancelled or postponed due to weather conditions. Park passes are required. Carpooling is encouraged.   
URL:https://coloradonma.org/event/sunrise-paint-hike-on-ottos-trail-9-24-2025/
LOCATION:Otto’s Trail
CATEGORIES:Community Artist in Park
ATTACH;FMTTYPE=image/png:https://coloradonma.org/wp-content/uploads/2025/07/Copy-of-CAIP-2025-Logo.png
ORGANIZER;CN="Jes Rich":MAILTO:programs@coloradonma.org
END:VEVENT
END:VCALENDAR