BEGIN:VCALENDAR
VERSION:2.0
PRODID:-//Colorado National Monument Association - ECPv6.15.18//NONSGML v1.0//EN
CALSCALE:GREGORIAN
METHOD:PUBLISH
X-ORIGINAL-URL:https://coloradonma.org
X-WR-CALDESC:Events for Colorado National Monument Association
REFRESH-INTERVAL;VALUE=DURATION:PT1H
X-Robots-Tag:noindex
X-PUBLISHED-TTL:PT1H
BEGIN:VTIMEZONE
TZID:America/Denver
BEGIN:DAYLIGHT
TZOFFSETFROM:-0700
TZOFFSETTO:-0600
TZNAME:MDT
DTSTART:20240310T090000
END:DAYLIGHT
BEGIN:STANDARD
TZOFFSETFROM:-0600
TZOFFSETTO:-0700
TZNAME:MST
DTSTART:20241103T080000
END:STANDARD
BEGIN:DAYLIGHT
TZOFFSETFROM:-0700
TZOFFSETTO:-0600
TZNAME:MDT
DTSTART:20250309T090000
END:DAYLIGHT
BEGIN:STANDARD
TZOFFSETFROM:-0600
TZOFFSETTO:-0700
TZNAME:MST
DTSTART:20251102T080000
END:STANDARD
BEGIN:DAYLIGHT
TZOFFSETFROM:-0700
TZOFFSETTO:-0600
TZNAME:MDT
DTSTART:20260308T090000
END:DAYLIGHT
BEGIN:STANDARD
TZOFFSETFROM:-0600
TZOFFSETTO:-0700
TZNAME:MST
DTSTART:20261101T080000
END:STANDARD
END:VTIMEZONE
BEGIN:VEVENT
DTSTART;TZID=America/Denver:20251006T173000
DTEND;TZID=America/Denver:20251006T193000
DTSTAMP:20260420T093525
CREATED:20250912T201547Z
LAST-MODIFIED:20251003T203824Z
UID:10000958-1759771800-1759779000@coloradonma.org
SUMMARY:Desert Bracelet Workshop: Full Harvest Moon Evening
DESCRIPTION:Join Lynnea from DarcMoon for a special mala bracelet workshop at Lunch Loop Trailhead during the full moon. As the sunsets and the moon rises\, we’ll gather outside to create intentional\, handmade bracelets using gemstones. This relaxed\, beginner-friendly workshop offers space to slow down\, be creative and connect with the desert.  \nDarcMoon is the creative vision of Lynnea\, an artist and jewelry maker based in Grand Junction\, CO since 2016. Named during her travels\, DarcMoon reflects Lynnea’s adventurous spirit and unique approach to creativity. Beyond creating beautiful pieces\, Lynnea leads workshops and collaborates with local artists\, fostering a community where intention\, artistry and connection come together.  \nDetails:   \nDate: Monday\, October 6th\, 2025  \nTime: 5:30 PM – 7:30 PM  \nLocation: Lunch Loop Trailhead \nWhat to Bring:    \n\nCamp chair or blanket \n\n\nWater and snacks or picnic dinner \n\n\nRegistration: Risk forms must be signed prior to the event.   \n\nWhat’s Included:   \n\nGuided bracelet-making with over 15 gemstones options  \n\n\nReflection on personal intention and lunar energy  \n\n\nAll materials provided  \n\n\nNo experience necessary  \n\nThere is a $30 ticket charge for materials  \nThe event may be cancelled or postponed due to the weather.  \n 
URL:https://coloradonma.org/event/desert-bracelet-workshop-full-harvest-moon-evening10-6-2025/
LOCATION:Lunch Loop Trailhead
CATEGORIES:Walks & Talks
ATTACH;FMTTYPE=image/jpeg:https://coloradonma.org/wp-content/uploads/2025/07/DarcMoon-Mala-scaled.jpg
ORGANIZER;CN="Jes Rich":MAILTO:programs@coloradonma.org
END:VEVENT
BEGIN:VEVENT
DTSTART;TZID=America/Denver:20251018T090000
DTEND;TZID=America/Denver:20251018T130000
DTSTAMP:20260420T093525
CREATED:20250924T192752Z
LAST-MODIFIED:20260401T225817Z
UID:10000963-1760778000-1760792400@coloradonma.org
SUMMARY:CANCELED- Geology Hike in Lower Monument Canyon Trail
DESCRIPTION:Due to the government shutdown\, the Geology Hike at Colorado National Monument is canceled. We understand this is disappointing\, and we sincerely apologize for the disruption. \nWhile we’re pausing in-person activities until the National Park Service provides us with guidance on reopening\, Colorado National Monument Association’s mission to support education\, interpretation and preservation at Colorado National Monument continues. \nThis is a great time to reflect on the incredible landscapes we protect and the vibrant community that helps us do it. You can still make a difference!\nSupport CNMA by shopping\, donating\, or becoming a member at coloradonma.org.\n \n\nPark volunteer\, Roger Smith will lead a hike through Lower Monument Canyon Trail while unraveling the secrets hidden within the layers of rock that bear witness to millions of years of the Earth’s history. \n\nRoger Smith is a recently retired geologist\, hiking enthusiast\, and current NPS volunteer. \n\nDetails: \n\n 	Date: Saturday\, October 18th\, 2025\n 	 Time: 9:00 AM- 1:00 PM\n\n\n 	Location: Lower Monument Canyon Trail – We will meet at the trailhead outside the park\, off of Hwy 340. \n\n\n 	Registration: Risk forms must be signed prior to beginning the hike. \n\n\n 	Distance: 5 miles roundtrip-Plan for a 4 hour strenuous hike. \n\n\n 	Bring: Water\, snacks\, layers and lunch. We will picnic around the base of Independence Monument half way through our hike.  \n\n\n 	Note: Hike may be cancelled or postponed due to weather. Park passes are required. Carpooling is encouraged. \n\n 
URL:https://coloradonma.org/event/geology-hike-in-lower-monument-10-18-25canyon-trail/
LOCATION:Lower Monument Canyon Trailhead\, add address\, Grand Junction\, CO\, 81507\, United States
CATEGORIES:Walks & Talks
ATTACH;FMTTYPE=image/jpeg:https://coloradonma.org/wp-content/uploads/2025/09/IMG_9171_Original.jpg
ORGANIZER;CN="Jes Rich":MAILTO:programs@coloradonma.org
END:VEVENT
END:VCALENDAR