BEGIN:VCALENDAR
VERSION:2.0
PRODID:-//Colorado National Monument Association - ECPv6.15.18//NONSGML v1.0//EN
CALSCALE:GREGORIAN
METHOD:PUBLISH
X-WR-CALNAME:Colorado National Monument Association
X-ORIGINAL-URL:https://coloradonma.org
X-WR-CALDESC:Events for Colorado National Monument Association
REFRESH-INTERVAL;VALUE=DURATION:PT1H
X-Robots-Tag:noindex
X-PUBLISHED-TTL:PT1H
BEGIN:VTIMEZONE
TZID:America/Denver
BEGIN:DAYLIGHT
TZOFFSETFROM:-0700
TZOFFSETTO:-0600
TZNAME:MDT
DTSTART:20220313T090000
END:DAYLIGHT
BEGIN:STANDARD
TZOFFSETFROM:-0600
TZOFFSETTO:-0700
TZNAME:MST
DTSTART:20221106T080000
END:STANDARD
BEGIN:DAYLIGHT
TZOFFSETFROM:-0700
TZOFFSETTO:-0600
TZNAME:MDT
DTSTART:20230312T090000
END:DAYLIGHT
BEGIN:STANDARD
TZOFFSETFROM:-0600
TZOFFSETTO:-0700
TZNAME:MST
DTSTART:20231105T080000
END:STANDARD
BEGIN:DAYLIGHT
TZOFFSETFROM:-0700
TZOFFSETTO:-0600
TZNAME:MDT
DTSTART:20240310T090000
END:DAYLIGHT
BEGIN:STANDARD
TZOFFSETFROM:-0600
TZOFFSETTO:-0700
TZNAME:MST
DTSTART:20241103T080000
END:STANDARD
END:VTIMEZONE
BEGIN:VEVENT
DTSTART;TZID=America/Denver:20230601T170000
DTEND;TZID=America/Denver:20230601T200000
DTSTAMP:20260420T041332
CREATED:20230509T210531Z
LAST-MODIFIED:20230523T181708Z
UID:10000024-1685638800-1685649600@coloradonma.org
SUMMARY:Ramblebine Beer Release
DESCRIPTION:Join us for the release of a special edition beer\, Park Pass IPA\, on June 1st at the Ramblebine Brewing Company.\n\n5pm- Beer release begins; can begin to put names in for door prizes\n5:45pm- Door prize names drawn\n6pm- Live Music begins- Brewglass Trio\n\n\nA percentage of sales of this beer benefit CNMA!
URL:https://coloradonma.org/event/ramblebine-beer-release/
LOCATION:Ramblebine Brewing Company\, 457 Colorado Ave\, Grand Junction\, CO\, 81501\, United States
CATEGORIES:Business Partnership
ATTACH;FMTTYPE=image/jpeg:https://coloradonma.org/wp-content/uploads/2023/05/cnma-ramblebine.jpg
END:VEVENT
BEGIN:VEVENT
DTSTART;TZID=America/Denver:20230614T183000
DTEND;TZID=America/Denver:20230614T193000
DTSTAMP:20260420T041332
CREATED:20230323T011823Z
LAST-MODIFIED:20230526T201835Z
UID:10000022-1686767400-1686771000@coloradonma.org
SUMMARY:Ayurveda for your Health - Part 3
DESCRIPTION:(same class will be offered on June 14th) \nAyurveda is based on the belief that health and wellness depend on a delicate balance between the mind\, body\, and spirit. \nAyurveda -the Science of Life\, is a preventative integrative model of medicine all about living in accord with nature and finding balance. \nJoin Tarna Jones\, a Registered Respiratory Therapist\, for a 3 part series to learn about doshas\, their elements & discovering your own dosha and specific lifestyle guidelines. \nThis is a 3 part series\, you can sign up for one class or join us for all of them.
URL:https://coloradonma.org/event/ayurveda-for-your-health-part-3-2/
LOCATION:Devils Kitchen Picnic Shelter\, 2300 Monument Rd\, Grand Junction\, CO\, 81507\, United States
ATTACH;FMTTYPE=image/jpeg:https://coloradonma.org/wp-content/uploads/2023/03/cnma-Ayurveda.jpg
END:VEVENT
BEGIN:VEVENT
DTSTART;TZID=America/Denver:20230617T093000
DTEND;TZID=America/Denver:20230617T103000
DTSTAMP:20260420T041332
CREATED:20230615T191035Z
LAST-MODIFIED:20230615T203018Z
UID:10000026-1686994200-1686997800@coloradonma.org
SUMMARY:Monument Rocks
DESCRIPTION:Meet at Independence Monument View\, 1 mile east of the Visitor Center. Learn about the formation of the spectacular Independence Monument rock formation and other geological formations. RSVP’s not required. \n(This is a weather permitting event\, subject to be canceled.) \nPhoto by David Smith
URL:https://coloradonma.org/event/monument-rocks/
LOCATION:Independence Monument View\, 11 Rim Rock Drive\, Fruita\, CO\, 81521\, United States
CATEGORIES:NPS Ranger Programs
ATTACH;FMTTYPE=image/jpeg:https://coloradonma.org/wp-content/uploads/2023/06/2023-04-014-scaled.jpg
END:VEVENT
END:VCALENDAR