BEGIN:VCALENDAR
VERSION:2.0
PRODID:-//Colorado National Monument Association - ECPv6.15.18//NONSGML v1.0//EN
CALSCALE:GREGORIAN
METHOD:PUBLISH
X-ORIGINAL-URL:https://coloradonma.org
X-WR-CALDESC:Events for Colorado National Monument Association
REFRESH-INTERVAL;VALUE=DURATION:PT1H
X-Robots-Tag:noindex
X-PUBLISHED-TTL:PT1H
BEGIN:VTIMEZONE
TZID:America/Denver
BEGIN:DAYLIGHT
TZOFFSETFROM:-0700
TZOFFSETTO:-0600
TZNAME:MDT
DTSTART:20220313T090000
END:DAYLIGHT
BEGIN:STANDARD
TZOFFSETFROM:-0600
TZOFFSETTO:-0700
TZNAME:MST
DTSTART:20221106T080000
END:STANDARD
BEGIN:DAYLIGHT
TZOFFSETFROM:-0700
TZOFFSETTO:-0600
TZNAME:MDT
DTSTART:20230312T090000
END:DAYLIGHT
BEGIN:STANDARD
TZOFFSETFROM:-0600
TZOFFSETTO:-0700
TZNAME:MST
DTSTART:20231105T080000
END:STANDARD
BEGIN:DAYLIGHT
TZOFFSETFROM:-0700
TZOFFSETTO:-0600
TZNAME:MDT
DTSTART:20240310T090000
END:DAYLIGHT
BEGIN:STANDARD
TZOFFSETFROM:-0600
TZOFFSETTO:-0700
TZNAME:MST
DTSTART:20241103T080000
END:STANDARD
END:VTIMEZONE
BEGIN:VEVENT
DTSTART;TZID=America/Denver:20230723T110000
DTEND;TZID=America/Denver:20230723T170000
DTSTAMP:20260420T010156
CREATED:20230717T011348Z
LAST-MODIFIED:20230717T011913Z
UID:10000399-1690110000-1690131600@coloradonma.org
SUMMARY:Grand Junction Latino Conservation Week Celebration
DESCRIPTION:This celebration seeks to engage Latino community members with public lands\, offer fire prevention education\, offer recreational activities and stewardship. \nFree food (until supplies last)\, music\, fun activities for both kids and adults\, local vendors and information about local organizations and services.
URL:https://coloradonma.org/event/grand-junction-latino-conservation-week-celebration/
LOCATION:Lincoln Park\, Grand Junction\, 910 N 12th Street\, Grand Junction\, CO\, 81501\, United States
ATTACH;FMTTYPE=image/jpeg:https://coloradonma.org/wp-content/uploads/2023/07/LCW-Post-e1689556361563.jpg
ORGANIZER;CN="Crystal Tyndall":MAILTO:ctyndall@coloradonma.org
END:VEVENT
BEGIN:VEVENT
DTSTART;TZID=America/Denver:20230729T093000
DTEND;TZID=America/Denver:20230729T103000
DTSTAMP:20260420T010156
CREATED:20230724T225449Z
LAST-MODIFIED:20230728T020335Z
UID:10000409-1690623000-1690626600@coloradonma.org
SUMMARY:Monument Rocks
DESCRIPTION:Meet at Independence Monument View ( 1 mile east of of the Visitor Center). \n  \nPhoto by David Smith
URL:https://coloradonma.org/event/monument-rocks-2/
LOCATION:Independence Monument View\, 11 Rim Rock Drive\, Fruita\, CO\, 81521\, United States
CATEGORIES:NPS Ranger Programs
ATTACH;FMTTYPE=image/jpeg:https://coloradonma.org/wp-content/uploads/2023/06/2023-04-014-scaled.jpg
END:VEVENT
END:VCALENDAR