BEGIN:VCALENDAR
VERSION:2.0
PRODID:-//Colorado National Monument Association - ECPv6.15.18//NONSGML v1.0//EN
CALSCALE:GREGORIAN
METHOD:PUBLISH
X-WR-CALNAME:Colorado National Monument Association
X-ORIGINAL-URL:https://coloradonma.org
X-WR-CALDESC:Events for Colorado National Monument Association
REFRESH-INTERVAL;VALUE=DURATION:PT1H
X-Robots-Tag:noindex
X-PUBLISHED-TTL:PT1H
BEGIN:VTIMEZONE
TZID:America/Denver
BEGIN:DAYLIGHT
TZOFFSETFROM:-0700
TZOFFSETTO:-0600
TZNAME:MDT
DTSTART:20220313T090000
END:DAYLIGHT
BEGIN:STANDARD
TZOFFSETFROM:-0600
TZOFFSETTO:-0700
TZNAME:MST
DTSTART:20221106T080000
END:STANDARD
BEGIN:DAYLIGHT
TZOFFSETFROM:-0700
TZOFFSETTO:-0600
TZNAME:MDT
DTSTART:20230312T090000
END:DAYLIGHT
BEGIN:STANDARD
TZOFFSETFROM:-0600
TZOFFSETTO:-0700
TZNAME:MST
DTSTART:20231105T080000
END:STANDARD
BEGIN:DAYLIGHT
TZOFFSETFROM:-0700
TZOFFSETTO:-0600
TZNAME:MDT
DTSTART:20240310T090000
END:DAYLIGHT
BEGIN:STANDARD
TZOFFSETFROM:-0600
TZOFFSETTO:-0700
TZNAME:MST
DTSTART:20241103T080000
END:STANDARD
END:VTIMEZONE
BEGIN:VEVENT
DTSTART;TZID=America/Denver:20231109T170000
DTEND;TZID=America/Denver:20231109T190000
DTSTAMP:20260420T035749
CREATED:20230727T221910Z
LAST-MODIFIED:20231108T164636Z
UID:10000407-1699549200-1699556400@coloradonma.org
SUMMARY:Ecological Evolution of Colorado National Monument
DESCRIPTION:In 1859\, Charles Darwin provided a great explanation of how species came to exist in their present forms. Even so\, evolution and natural selection are among the most complex of all scientific principles. As we near the 200th anniversary of Darwin’s voyage around the world (1831)\, we will look back at what he observed and said. \nWe will then use this lens to look at life in the monument today. What would Darwin say about Bighorn Sheep?  How can he help us understand about Prickly Pears and Collared Lizards? Finally\, we will look at the components of evolution Darwin didn’t (and couldn’t) understand and apply them to life in the monument. \nTim Beagley earned his PhD in Biology with an emphasis on Molecular Evolution.  He taught Molecular Biology and Microbiology to college students for 37 years. Dr. Beagley now serves as a Volunteer In the Park (VIP) for Colorado National Monument where he assists with the park education programs. \n— \nMonument on Tap\, a new series that will take the learning out of the park while supporting our local community. Monthly education series to be held on Thursdays at local breweries around town. Our 1st group of lectures will be held outdoors at Foam and Folly in downtown Grand Junction. \nPlease RSVP – Arrive at 5pm to grab a beverage\, lecture starts at 5:30pm \n 
URL:https://coloradonma.org/event/monument-on-tap-series/
LOCATION:Foam and Folly Brewing\, 330 S. 2nd Street\, Grand Junction\, CO\, 81501\, United States
CATEGORIES:Monument on Tap Series
ATTACH;FMTTYPE=image/png:https://coloradonma.org/wp-content/uploads/2023/07/MOT-Updated.png
END:VEVENT
BEGIN:VEVENT
DTSTART;TZID=America/Denver:20231128T000000
DTEND;TZID=America/Denver:20231128T235900
DTSTAMP:20260420T035749
CREATED:20231117T184547Z
LAST-MODIFIED:20231122T184851Z
UID:10000845-1701129600-1701215940@coloradonma.org
SUMMARY:Giving Tuesday 2023
DESCRIPTION:Consider donating to Colorado National Monument this Giving Tuesday 2023. \nGiving Tuesday is a global generosity movement\, unleashing the power of people and organizations to transform their communities and the world. It is a day to “Do Good”. \nIt’s easy to give\, here are a few ways: \n\nMake a one-time general donation.\nDonate your car.\nBecome a Colorado National Monument Member.\n\nWith your generosity we are able to continue to support Colorado National Monument and engage the community\, to create a healthier ecosystem within the park boundaries and far beyond. \nImage of Canyon Wall by CNMA Staff.
URL:https://coloradonma.org/event/giving-tuesday-2023/
LOCATION:Colorado National Monument
ATTACH;FMTTYPE=image/png:https://coloradonma.org/wp-content/uploads/2023/11/Giving-Tuesday_Web_compress.png
ORGANIZER;CN="Crystal Tyndall":MAILTO:ctyndall@coloradonma.org
END:VEVENT
BEGIN:VEVENT
DTSTART;TZID=America/Denver:20231129T173000
DTEND;TZID=America/Denver:20231129T193000
DTSTAMP:20260420T035749
CREATED:20231108T181152Z
LAST-MODIFIED:20231108T183830Z
UID:10000844-1701279000-1701286200@coloradonma.org
SUMMARY:2023 Annual Member Meeting
DESCRIPTION:Join us for Colorado National Monument Association’s 2023 Annual Member Meeting! \nAn evening of celebration and reflection on our enduring commitment to Colorado National Monument. As we look back on the achievements of 2023 and ahead to 2024\, we want to share all the work we accomplished with our member support. \nAgenda Highlights: \n\n5:30-6:15pm\, Welcome and Mingling: Socialize and connect with fellow CNMA members\, CNMA board members\, and staff while enjoying light snacks and beverages.\n6:15pm-7:15pm\, Address and Remarks from CNMA and Colorado National Monument Staff:\n\n\n\n\n\nExecutive Director Remarks: Gain insights and perspectives from our Executive Director\, Johanna van Waveren\, as she shares updates on CNMA’s ongoing initiatives.\nNPS Superintendent Remarks: Hear from Colorado National Monument’s NPS Superintendent\, Nathan Souder\, as he provides valuable insights and shares updates about the monument’s status and future plans.\nRecap of 2023 Accomplishments: Celebrate the achievements of the past year\, highlighting our shared dedication to preserving and sharing the monument’s natural beauty.\nLooking Forward to 2024: Join us as we share our vision for the upcoming year and the celebrations surrounding a milestone year marking our 60th anniversary.\n\n\n\n\n\n\n\nWe are deeply grateful for the commitment of our members and their contributions to our shared mission. \n— \nIf you are not a Colorado National Monument Association Member and would like to join us\, more details about Membership can be found here. We’d love to have you join us at the 2023 Annual Member Meeting! \nIf you have any questions or require further information\, please don’t hesitate to contact our Membership Coordinator\, Crystal Tyndall\, ctyndall@coloradonma.org. \n 
URL:https://coloradonma.org/event/2023-annual-member-meeting/
LOCATION:EUREKA! McConnell Science Museum\, 1400 North 7th Street\, Grand Junction\, CO\, 81501\, United States
ATTACH;FMTTYPE=image/png:https://coloradonma.org/wp-content/uploads/2023/11/invite-for-web_V5.png
ORGANIZER;CN="Crystal Tyndall":MAILTO:ctyndall@coloradonma.org
END:VEVENT
END:VCALENDAR