BEGIN:VCALENDAR
VERSION:2.0
PRODID:-//Colorado National Monument Association - ECPv6.15.18//NONSGML v1.0//EN
CALSCALE:GREGORIAN
METHOD:PUBLISH
X-ORIGINAL-URL:https://coloradonma.org
X-WR-CALDESC:Events for Colorado National Monument Association
REFRESH-INTERVAL;VALUE=DURATION:PT1H
X-Robots-Tag:noindex
X-PUBLISHED-TTL:PT1H
BEGIN:VTIMEZONE
TZID:America/Denver
BEGIN:DAYLIGHT
TZOFFSETFROM:-0700
TZOFFSETTO:-0600
TZNAME:MDT
DTSTART:20230312T090000
END:DAYLIGHT
BEGIN:STANDARD
TZOFFSETFROM:-0600
TZOFFSETTO:-0700
TZNAME:MST
DTSTART:20231105T080000
END:STANDARD
BEGIN:DAYLIGHT
TZOFFSETFROM:-0700
TZOFFSETTO:-0600
TZNAME:MDT
DTSTART:20240310T090000
END:DAYLIGHT
BEGIN:STANDARD
TZOFFSETFROM:-0600
TZOFFSETTO:-0700
TZNAME:MST
DTSTART:20241103T080000
END:STANDARD
BEGIN:DAYLIGHT
TZOFFSETFROM:-0700
TZOFFSETTO:-0600
TZNAME:MDT
DTSTART:20250309T090000
END:DAYLIGHT
BEGIN:STANDARD
TZOFFSETFROM:-0600
TZOFFSETTO:-0700
TZNAME:MST
DTSTART:20251102T080000
END:STANDARD
END:VTIMEZONE
BEGIN:VEVENT
DTSTART;TZID=America/Denver:20240802T181500
DTEND;TZID=America/Denver:20240802T200000
DTSTAMP:20260420T101720
CREATED:20240318T222058Z
LAST-MODIFIED:20240802T132157Z
UID:10000881-1722622500-1722628800@coloradonma.org
SUMMARY:Saddlehorn Amphitheater Celebration and Concert
DESCRIPTION:The Colorado National Monument Association proudly announces the grand re-opening of the Saddlehorn Amphitheater and Trail with an unforgettable concert event.\n\n\n\n\n\nExperience an enchanting evening under the stars at the revamped Saddlehorn Amphitheater\, featuring a live performance by the incredibly talented multi-instrumentalist Jeneve Rose Mitchell. At just 15\, Jeneve dazzled the nation as a top 14 finalist on American Idol’s farewell season. Her performances are a delightful blend of various instruments and musical genres. Discover more about Jeneve here. \nThis event promises an evening of musical magic. With limited parking available\, we highly recommend carpooling. Ensure your spot at the Saddlehorn Picnic Area lot by purchasing the preferred parking ticket. Additional parking is available at the Visitor Center\, with a scenic stroll along a paved road to the venue. \nThanks to everyone who made this project possible! Many donors\, foundations and community members along with Colorado National Monunment Association contributed to the renovations of the Saddlehorn Ampitheater and the connector trail. The amphitheater will be used for National Park Service-led educational programs and ranger talks that will reach thousands of students and visitors a year. \nDon’t miss the chance to experience an evening of music\, nature\, and celebration at the Saddlehorn concert! \n— \nParking and seating opens at 5:30pm. Music begins at 6:15pm \nPlease note: The event will continue Rain or Shine. Lightning will delay or cancel the event.  \nColorado National Monument entrance fees apply. Fees and passes information. \nAll attendees\, including children\, must have a ticket to comply with event capacity limit. \n— \nThis concert is part of Colorado National Monument Association’s 60th celebration.
URL:https://coloradonma.org/event/saddlehorn-celebration-and-concert/
LOCATION:Saddlehorn Amphitheater
ATTACH;FMTTYPE=image/jpeg:https://coloradonma.org/wp-content/uploads/2024/03/IMG_0599-4-scaled.jpg
ORGANIZER;CN="Crystal Tyndall":MAILTO:ctyndall@coloradonma.org
GEO:39.103185;-108.730485
END:VEVENT
BEGIN:VEVENT
DTSTART;TZID=America/Denver:20240825T130000
DTEND;TZID=America/Denver:20240825T163000
DTSTAMP:20260420T101720
CREATED:20240821T192340Z
LAST-MODIFIED:20240821T192609Z
UID:10000887-1724590800-1724603400@coloradonma.org
SUMMARY:Then & Now
DESCRIPTION:It’s the National Park Service’s birthday! \nJoin us at the Colorado National Monument Visitor Center on August 25\, 2024\, from 1:00 PM to 4:30 PM\, to view the Then & Now display that Terri Ahern has created and let her walk you through time. There will be an additional display in celebration of Colorado National Monument Association’s 60th Anniversary. \nEvent is free however regular Colorado National Monument entrance fees apply.
URL:https://coloradonma.org/event/then-now/
LOCATION:Saddlehorn Visitor Center\, 1750 Rim Rock Drive\, Fruita\, CO\, 81521\, United States
CATEGORIES:Talks & Presentations
ATTACH;FMTTYPE=image/jpeg:https://coloradonma.org/wp-content/uploads/slider9/ACCCOLM-00153_0215.jpeg
END:VEVENT
END:VCALENDAR