BEGIN:VCALENDAR
VERSION:2.0
PRODID:-//Colorado National Monument Association - ECPv6.15.18//NONSGML v1.0//EN
CALSCALE:GREGORIAN
METHOD:PUBLISH
X-WR-CALNAME:Colorado National Monument Association
X-ORIGINAL-URL:https://coloradonma.org
X-WR-CALDESC:Events for Colorado National Monument Association
REFRESH-INTERVAL;VALUE=DURATION:PT1H
X-Robots-Tag:noindex
X-PUBLISHED-TTL:PT1H
BEGIN:VTIMEZONE
TZID:America/Denver
BEGIN:DAYLIGHT
TZOFFSETFROM:-0700
TZOFFSETTO:-0600
TZNAME:MDT
DTSTART:20240310T090000
END:DAYLIGHT
BEGIN:STANDARD
TZOFFSETFROM:-0600
TZOFFSETTO:-0700
TZNAME:MST
DTSTART:20241103T080000
END:STANDARD
BEGIN:DAYLIGHT
TZOFFSETFROM:-0700
TZOFFSETTO:-0600
TZNAME:MDT
DTSTART:20250309T090000
END:DAYLIGHT
BEGIN:STANDARD
TZOFFSETFROM:-0600
TZOFFSETTO:-0700
TZNAME:MST
DTSTART:20251102T080000
END:STANDARD
BEGIN:DAYLIGHT
TZOFFSETFROM:-0700
TZOFFSETTO:-0600
TZNAME:MDT
DTSTART:20260308T090000
END:DAYLIGHT
BEGIN:STANDARD
TZOFFSETFROM:-0600
TZOFFSETTO:-0700
TZNAME:MST
DTSTART:20261101T080000
END:STANDARD
END:VTIMEZONE
BEGIN:VEVENT
DTSTART;TZID=America/Denver:20250601T150000
DTEND;TZID=America/Denver:20250601T170000
DTSTAMP:20260421T072454
CREATED:20250527T163640Z
LAST-MODIFIED:20250602T212246Z
UID:10000934-1748790000-1748797200@coloradonma.org
SUMMARY:Resiliency Ranger Family Day
DESCRIPTION:Join Resiliency Ranger\, Amber Martin and begin your journey of exploring and learning about the fun and adventure of being outdoors. Topics include: \n\nResiliency Skills\nCamping – Prepping\, location\, tent setup.\nHiking Responsibly\nGoing on short hikes\nLeave No Trace\nInsects at COLM\nNight Skies\n\nParking is limited\, please consider carpooling. Weather permitting event\, subject to be canceled. NPS Event Calendar
URL:https://coloradonma.org/event/resiliency-ranger-family-day/
LOCATION:Devils Kitchen Picnic Shelter\, 2300 Monument Rd\, Grand Junction\, CO\, 81507\, United States
CATEGORIES:NPS Ranger Programs
ATTACH;FMTTYPE=image/png:https://coloradonma.org/wp-content/uploads/2024/02/Screenshot-2024-02-10-130806.png
ORGANIZER;CN="Amber Martin":MAILTO:amber_martin@nps.gov
END:VEVENT
BEGIN:VEVENT
DTSTART;TZID=America/Denver:20250605T100000
DTEND;TZID=America/Denver:20250605T120000
DTSTAMP:20260421T072454
CREATED:20250506T221512Z
LAST-MODIFIED:20250512T000806Z
UID:10000933-1749117600-1749124800@coloradonma.org
SUMMARY:Scales\, Tales\, and Creative Trails!
DESCRIPTION:Join local artist Denise Wright for a fun-filled adventure featuring lively lizard tales\, a lizard-spotting hike\, and the chance to create your very own lizard-inspired artwork! \nDetails:  \n\nDate: June 5th 10:00 AM\nLocation: Devil’s Kitchen Picnic Shelter\nRegistration: Risk forms must be signed prior to event.\n\n\nBring: Hiking shoes\, water\, snack and layers as needed. \nKids of all ages welcome; parents are required to stay with children at all times. (Please reserve a spot for you and your child.)\n\n\nNo materials required. \n\n\nPark passes required for entry. Please carpool when possible. 
URL:https://coloradonma.org/event/scales-tales-and-creative-trails6-5-2025/
LOCATION:Devils Kitchen Picnic Shelter\, 2300 Monument Rd\, Grand Junction\, CO\, 81507\, United States
CATEGORIES:Kids Program
ATTACH;FMTTYPE=image/jpeg:https://coloradonma.org/wp-content/uploads/2025/05/20220502_112219.jpg
ORGANIZER;CN="Jes Rich":MAILTO:programs@coloradonma.org
END:VEVENT
BEGIN:VEVENT
DTSTART;TZID=America/Denver:20250611T193000
DTEND;TZID=America/Denver:20250611T220000
DTSTAMP:20260421T072454
CREATED:20250417T163940Z
LAST-MODIFIED:20250611T162748Z
UID:10000931-1749670200-1749679200@coloradonma.org
SUMMARY:Nocturne Art at the Monument
DESCRIPTION:Join local artist\, Cedar Keshet for an evening of exploring nocturne art and sky gazing at Saddlehorn Picnic Area. A moonlit night can bring peaceful quiet and mystery. Both feelings are evoked in nocturnes\, or paintings depicting nightfall lit by the moon\, stars and lamplight.   \nWe will be creating simple nocturne artwork with supplies provided. No previous art skills are required\, just a willingness to have fun and try a new activity.  \nDetails: \n\nDate : June 11th at 7:30 PM \nLocation: Saddlehorn Picnic Area \nRegistration: Risk forms must be signed prior to the event. \nBring: Headlamps\, (We want to keep it night sky friendly\, no big lights\, please.) reflective clothing- safety vest\, bug spray\, camp chair\, jacket or sweater\, any portable art supplies you would like\, but not necessary\, dinner or snacks and water.\n\n Note: Park passes are required. Carpooling is encouraged. The event may be cancelled or postponed due to the weather.  \n 
URL:https://coloradonma.org/event/nocturne-art-at-the-monument-6-11-2025/
LOCATION:Saddlehorn Picnic Area\, Saddlehorn\, Fruita\, CO\, United States
CATEGORIES:Talks & Presentations
ATTACH;FMTTYPE=image/jpeg:https://coloradonma.org/wp-content/uploads/2025/04/MooninHerArm-3-scaled.jpg
GEO:39.103185;-108.730485
X-APPLE-STRUCTURED-LOCATION;VALUE=URI;X-ADDRESS=Saddlehorn Picnic Area Saddlehorn Fruita CO United States;X-APPLE-RADIUS=500;X-TITLE=Saddlehorn:geo:-108.730485,39.103185
END:VEVENT
BEGIN:VEVENT
DTSTART;TZID=America/Denver:20250614T090000
DTEND;TZID=America/Denver:20250614T120000
DTSTAMP:20260421T072454
CREATED:20250409T152743Z
LAST-MODIFIED:20250409T210823Z
UID:10000930-1749891600-1749902400@coloradonma.org
SUMMARY:Art Journaling from Nature Workshop
DESCRIPTION:Join artist\, Cedar Keshet\, for a peaceful morning of art journaling at Devils Kitchen Picnic Shelter. Record your trip in nature with watercolors\, pencil\, and pen. Learn basic techniques to capture what you see\, hear\, and feel on your next adventure.   \nDetails:   \n\nDate: June 14th at 9:00 AM \n\n\nLocation: Devils Kitchen Picnic Shelter- From the east entrance travel .02 miles\, turn right. \n\n\nRegistration: Risk forms must be signed prior to event. \n\n\nBring: Art supplies are not included- Please feel free to bring what you like. See link here for suggested art supplies. \n\n\nCamping chair  \n\n\nSunscreen/Hat/Sunglasses/Bug spray \n\n\nWater/Snacks/Lunch \n\n Note: Park passes are required. Carpooling is encouraged. Event may be cancelled or postponed due to weather.  \n 
URL:https://coloradonma.org/event/art-journaling-from-nature-workshop-6-11-2025/
LOCATION:Devils Kitchen Picnic Shelter\, 2300 Monument Rd\, Grand Junction\, CO\, 81507\, United States
CATEGORIES:Talks & Presentations
ATTACH;FMTTYPE=image/jpeg:https://coloradonma.org/wp-content/uploads/2025/04/River-scaled.jpg
ORGANIZER;CN="Jes Rich":MAILTO:programs@coloradonma.org
END:VEVENT
BEGIN:VEVENT
DTSTART;TZID=America/Denver:20250625T180000
DTEND;TZID=America/Denver:20250625T193000
DTSTAMP:20260421T072454
CREATED:20250610T160848Z
LAST-MODIFIED:20250611T115800Z
UID:10000935-1750874400-1750879800@coloradonma.org
SUMMARY:Leopold Bros. Whiskey 'Monument Canyon Trail' Release & Tasting
DESCRIPTION:Colorado National Monument Association (CNMA) is thrilled to announce a new collaboration with renowned Colorado-based distillery Leopold Bros. \nThe distillery has crafted a special whiskey\, Monument Canyon Trail\, and 10% from every bottle sold benefits CNMA and its work supporting Colorado National Monument. \n \nEvent Details\n\nWhat: Monument Canyon Trail Whiskey Release Party\nWhen: June 25\, 2025 | 6:00–7:30 PM\nWhere: Talbott’s Farm Market & Taproom\, 3801 F 1/4 Road\, Palisade\, CO\nTickets: $50 | Available at https://www.leopoldbros.com/visit-us\n\n\n\nAttendees receive a welcome cocktail\, enjoy tastings of Monument Canyon Trail and other Leopold Bros. spirits\, hear behind-the-scenes stories from the distillery\, and learn about the partnership with CNMA and Talbott Farms. There will also be light snacks. \n— \nWe are tremendously grateful to have this partnership with Leopold Bros. We are excited for this collaboration to help introduce more people to CNMA while raising important funds to support our programs and preservation. \n— \nRead more about this partnership here.
URL:https://coloradonma.org/event/leopold-bros-whiskey-monument-canyon-trail/
LOCATION:Talbott’s Farm Market & Tap Room\, 3801 F 1/4 Road\, Palisade\, CO\, 81526\, United States
ATTACH;FMTTYPE=image/jpeg:https://coloradonma.org/wp-content/uploads/2025/06/Bottle-with-logo.jpg
ORGANIZER;CN="Crystal Tyndall":MAILTO:ctyndall@coloradonma.org
END:VEVENT
END:VCALENDAR