BEGIN:VCALENDAR
VERSION:2.0
PRODID:-//Colorado National Monument Association - ECPv6.15.18//NONSGML v1.0//EN
CALSCALE:GREGORIAN
METHOD:PUBLISH
X-WR-CALNAME:Colorado National Monument Association
X-ORIGINAL-URL:https://coloradonma.org
X-WR-CALDESC:Events for Colorado National Monument Association
REFRESH-INTERVAL;VALUE=DURATION:PT1H
X-Robots-Tag:noindex
X-PUBLISHED-TTL:PT1H
BEGIN:VTIMEZONE
TZID:America/Denver
BEGIN:DAYLIGHT
TZOFFSETFROM:-0700
TZOFFSETTO:-0600
TZNAME:MDT
DTSTART:20240310T090000
END:DAYLIGHT
BEGIN:STANDARD
TZOFFSETFROM:-0600
TZOFFSETTO:-0700
TZNAME:MST
DTSTART:20241103T080000
END:STANDARD
BEGIN:DAYLIGHT
TZOFFSETFROM:-0700
TZOFFSETTO:-0600
TZNAME:MDT
DTSTART:20250309T090000
END:DAYLIGHT
BEGIN:STANDARD
TZOFFSETFROM:-0600
TZOFFSETTO:-0700
TZNAME:MST
DTSTART:20251102T080000
END:STANDARD
BEGIN:DAYLIGHT
TZOFFSETFROM:-0700
TZOFFSETTO:-0600
TZNAME:MDT
DTSTART:20260308T090000
END:DAYLIGHT
BEGIN:STANDARD
TZOFFSETFROM:-0600
TZOFFSETTO:-0700
TZNAME:MST
DTSTART:20261101T080000
END:STANDARD
END:VTIMEZONE
BEGIN:VEVENT
DTSTART;TZID=America/Denver:20250801T180000
DTEND;TZID=America/Denver:20250801T210000
DTSTAMP:20260421T040559
CREATED:20250715T192601Z
LAST-MODIFIED:20250721T193151Z
UID:10000942-1754071200-1754082000@coloradonma.org
SUMMARY:Sunset Plein Air Painting at Independence Overlook
DESCRIPTION:Enjoy the golden hour with Monica Esposito while she paints live on location\, capturing the vibrant colors of the Monument’s iconic red rock canyons and desert vistas. Guests are invited to bring their own sketchbooks or paints—or simply come to watch\, chat\, and take in the scenery. This will be an open house type of event. You may come and go as you please.   \nMonica Esposito is a fine art artist and registered nurse located in Grand Junction\, Colorado. Receiving her Bachelor of Fine Arts degree with a concentration in painting from the University of Texas in 2001. She has spent her life exploring the western landscape for her inspiration and credits the art and life of Georgia O’Keeffe as one of her strongest influences.   \nDetails:  \nDate: August 1st \nTime: 6:00 PM – Sunset  \nLocation: Independence Overlook \nWhat to Bring:   \n\nLawn chair or blanket \n\n\nWater and snacks or picnic dinner \n\n\nYour own plein air setup (optional) \n\n\n Sun umbrella or canopy (optional) \n\nNote: Park passes are required. Carpooling is encouraged. The event may be cancelled or postponed due to the weather. 
URL:https://coloradonma.org/event/sunset-plein-air-painting-at-independence-overlook-with-our-community-artist-in-park-8-1-2025/
LOCATION:Independence Overlook
CATEGORIES:Community Artist in Park
ATTACH;FMTTYPE=image/png:https://coloradonma.org/wp-content/uploads/2025/07/Copy-of-CAIP-2025-Logo.png
ORGANIZER;CN="Jes Rich":MAILTO:programs@coloradonma.org
END:VEVENT
BEGIN:VEVENT
DTSTART;TZID=America/Denver:20250809T180000
DTEND;TZID=America/Denver:20250809T200000
DTSTAMP:20260421T040559
CREATED:20250717T172249Z
LAST-MODIFIED:20250730T034606Z
UID:10000944-1754762400-1754769600@coloradonma.org
SUMMARY:Desert Bracelet Workshop: Full Moon Evening
DESCRIPTION:Join Lynnea from DarcMoon for a special mala bracelet workshop at Devils Kitchen Picnic Shelter during the full moon. As the sunsets and the moon rises\, we’ll gather outside to create intentional\, handmade bracelets using gemstones. This relaxed\, beginner-friendly workshop offers space to slow down\, be creative and connect with the desert. \nDarcMoon is the creative vision of Lynnea\, an artist and jewelry maker based in Grand Junction\, CO since 2016. Named during her travels\, DarcMoon reflects Lynnea’s adventurous spirit and unique approach to creativity. Beyond creating beautiful pieces\, Lynnea leads workshops and collaborates with local artists\, fostering a community where intention\, artistry and connection come together. \nDetails:  \nDate: August 9\, 2025 \nTime: 6:00 PM – 8:00 PM \nLocation: Devils Kitchen Picnic Shelter \nWhat to Bring:   \n\nCamp chair or blanket\n\n\nWater and snacks or picnic dinner\nRegistration: Risk forms must be signed prior to the event.  \n\nWhat’s Included:  \n\nGuided bracelet-making with over 15 gemstones options \nReflection on personal intention and lunar energy \nAll materials provided \nNo experience necessary \n\nThere is a $30 ticket charge for materials \nNote: Park passes are required. Carpooling is encouraged. The event may be cancelled or postponed due to the weather. 
URL:https://coloradonma.org/event/desert-bracelet-workshop-full-moon-evening-8-9-2025/
LOCATION:Devils Kitchen Picnic Shelter\, 2300 Monument Rd\, Grand Junction\, CO\, 81507\, United States
CATEGORIES:Talks & Presentations
ATTACH;FMTTYPE=image/jpeg:https://coloradonma.org/wp-content/uploads/2025/07/DarcMoon-Mala-scaled.jpg
ORGANIZER;CN="Jes Rich":MAILTO:programs@coloradonma.org
END:VEVENT
BEGIN:VEVENT
DTSTART;TZID=America/Denver:20250811T180000
DTEND;TZID=America/Denver:20250811T193000
DTSTAMP:20260421T040559
CREATED:20250717T190216Z
LAST-MODIFIED:20250730T034510Z
UID:10000945-1754935200-1754940600@coloradonma.org
SUMMARY:Investigating Insects in the Monument
DESCRIPTION:Ranger Raven holding a grub from the Amazon Rainforest.\n  \nJoin Ranger Raven for an engaging and educational presentation exploring what insects are\, how to identify them\, and learn some of the fascinating insect species found right here in the Monument! \nRanger Raven Patrick completed a Bachelor’s in Biology from CMU back in 2023\, where her work took her all the way from Alaska to the Amazon Rainforest. Recently\, she completed a Master’s in Entomology from the University of Nebraska – Lincoln. When she’s not out looking for bugs\, she spends her free time hanging out at home with her fiancé and two dogs while watching movies\, creating 3D models\, and selling sourdough bread. \nMonument on Tap is a CNMA lecture series that takes the learning out of the park and into the community—supporting local voices\, shared knowledge\, and meaningful connection.  \nDetails:    \n\nDate: Monday 6:00pm- 7:30pm\n\n\nTime: Arrive at 6:00 PM to grab food and a beverage. Lecture will start at 6:30 PM \n\n\nLocation: Base Camp Provisions- 155 N Mulberry Street Fruita\, CO \n\n\nRegistration: Please make an RSVP for each attendee. \n\n  \n 
URL:https://coloradonma.org/event/investigating-insects-in-the-monument-8-11-2025/
LOCATION:Base Camp Provisions\, North Mulberry Street\, Fruita\, CO\, 81521\, United States
CATEGORIES:Monument on Tap Series
ATTACH;FMTTYPE=image/png:https://coloradonma.org/wp-content/uploads/2023/07/MOT-Updated.png
ORGANIZER;CN="Jes Rich":MAILTO:programs@coloradonma.org
END:VEVENT
BEGIN:VEVENT
DTSTART;TZID=America/Denver:20250821T180000
DTEND;TZID=America/Denver:20250821T200000
DTSTAMP:20260421T040559
CREATED:20250730T175026Z
LAST-MODIFIED:20250730T175247Z
UID:10000948-1755799200-1755806400@coloradonma.org
SUMMARY:Cheers for the Confluence Center
DESCRIPTION:Learn more about the Confluence Center and meet the folks working behind the scenes to make it a reality. \nJoin us for a fun and meaningful evening at Handlebar Tap House\, supporting the Confluence Center of Colorado\, dedicated to protecting our rivers and lands. \nDrink for a cause with proceeds from a donated keg of beer will go directly to supporting the Confluence Center. \nWin big\, we’ll have awesome door prizes at the event! Come connect\, sip\, and support conservation in Colorado. \n*No registration needed\, just drop in!
URL:https://coloradonma.org/event/cheers-for-the-confluence-center/
LOCATION:Handlebar Tap House\, 417 Monument Rd #1\, Grand Junction\, CO\, 81507\, United States
ATTACH;FMTTYPE=image/jpeg:https://coloradonma.org/wp-content/uploads/2025/07/drinks-snip-e1753897722358.jpg
ORGANIZER;CN="Crystal Tyndall":MAILTO:ctyndall@coloradonma.org
END:VEVENT
BEGIN:VEVENT
DTSTART;TZID=America/Denver:20250822T173000
DTEND;TZID=America/Denver:20250822T203000
DTSTAMP:20260421T040559
CREATED:20250811T215429Z
LAST-MODIFIED:20250811T215429Z
UID:10000950-1755883800-1755894600@coloradonma.org
SUMMARY:GVORC Campfire Session: Standing Up for Parks and Public Lands
DESCRIPTION:Join public lands advocates\, local leaders\, and former National Park Service staff for an inspiring evening of conversation and action to protect our public lands — a part of CWP’s “Keep Parks Public” road tour and NPCA’s “Protect Every Park/National Day of Action.” \nThis event is part of the Center for Western Priorities’ Keep Parks Public campaign\, the National Parks Conservation Association’s Protect Every Park campaign\, and the Grand Valley Outdoor Recreation Coalition’s (GVORC) Campfire Sessions. \nCNMA will be participating in the public lands expo. Learn more about our organization and the work we are doing to support public lands and Colorado National Monument. \n  \n\n\nFree to attend and open to all ages\, but please RSVP here – Standing up for Parks and Public Lands Tickets.
URL:https://coloradonma.org/event/gvorc-campfire-session-standing-up-for-parks-and-public-lands/
LOCATION:Gemini Beer Company\, 310 North 7th Street\, Grand Junction\, CO\, 81501\, United States
ATTACH;FMTTYPE=image/webp:https://coloradonma.org/wp-content/uploads/2025/08/GVORC-Campfire-Session.webp
ORGANIZER;CN="Crystal Tyndall":MAILTO:ctyndall@coloradonma.org
END:VEVENT
BEGIN:VEVENT
DTSTART;TZID=America/Denver:20250823T193000
DTEND;TZID=America/Denver:20250823T220000
DTSTAMP:20260421T040559
CREATED:20250715T203219Z
LAST-MODIFIED:20250810T181731Z
UID:10000943-1755977400-1755986400@coloradonma.org
SUMMARY:Nocturne Art at the Monument
DESCRIPTION:Join local artist\, Cedar Keshet for an evening of exploring nocturne art and sky gazing at Saddlehorn Picnic Area parking lot. A moonlit night can bring peaceful quiet and mystery. Both feelings are evoked in nocturnes\, or paintings depicting nightfall lit by the moon\, stars and lamplight.     \nWe’ll be creating simple nocturne artwork with supplies provided by our artist\, Cedar Keshet. No previous art skills are required\, just a willingness to have fun and try a new activity. If you would like to make a donation to Cedar for her art supplies\, please Venmo her @PleinAirCedar . \nIt will be the New Moon on the 23rd of August which will provide perfectly dark skies—ideal for stargazing! We’ll be sharing our space with the National Park Service’s Night Sky Program\, so come ready to explore the wonders of the night sky through expert-led activities\, telescope viewing\, and more. Please park on the far east side of the parking lot to reduce light pollution.  \nDetails:   \n\nDate : August 23rd\nTime: 7:30 pm- 10:00 pm\n\n\nLocation: Saddlehorn Picnic Area  parking lot. We’ll be sharing the space with the Night Sky program. Please park on the east side of the parking lot.   \n\n\nRegistration: Risk forms must be signed prior to the event.   \n\n\nBring: Headlamps\, (We want to keep it night sky friendly\, no big lights\, please.) camp chairs\, bug spray\, jacket or sweater\, reflective clothing or safety vest\, any portable art supplies you would like\, but not necessary\, dinner or snacks and water.  \n\n Note: Park passes are required. Carpooling is encouraged. The event may be cancelled or postponed due to the weather. 
URL:https://coloradonma.org/event/nocturne-art-at-the-monument-8-23-2025/
LOCATION:Saddlehorn Picnic Area\, Saddlehorn\, Fruita\, CO\, United States
CATEGORIES:Talks & Presentations
ATTACH;FMTTYPE=image/jpeg:https://coloradonma.org/wp-content/uploads/2025/04/MooninHerArm-3-scaled.jpg
ORGANIZER;CN="Jes Rich":MAILTO:programs@coloradonma.org
GEO:39.103185;-108.730485
X-APPLE-STRUCTURED-LOCATION;VALUE=URI;X-ADDRESS=Saddlehorn Picnic Area Saddlehorn Fruita CO United States;X-APPLE-RADIUS=500;X-TITLE=Saddlehorn:geo:-108.730485,39.103185
END:VEVENT
BEGIN:VEVENT
DTSTART;TZID=America/Denver:20250825T093000
DTEND;TZID=America/Denver:20250825T163000
DTSTAMP:20260421T040559
CREATED:20250717T185710Z
LAST-MODIFIED:20250810T171644Z
UID:10000946-1756114200-1756139400@coloradonma.org
SUMMARY:Then and Now- National Park Service 109th Birthday
DESCRIPTION:The National Park Service (NPS) was established on August 25\, 1916 and celebrates its birthday on this date each year. This year\, 2025\, marks the 109th anniversary of the NPS.  \nJoin Terri Ahern as she shares her passion\, history and knowledge of Colorado National Monument’s beautiful landscape through photos and storytelling.  \nTerri and her husband\, Rick\, moved to the “best slope” in 2000 after falling in love with the high desert canyon country. She has been a volunteer at Colorado National Monument since April 2006 as a trail ambassador\, and assists with special projects in the Cultural & Natural Resources Division and enjoys the annual Desert Bighorn Sheep Count.  \nRSVPs not required – Park pass required for entrance to the park.  \n \n 
URL:https://coloradonma.org/event/then-and-now-national-park-service-109th-birthday8-25-2025/
LOCATION:Saddlehorn Visitor Center\, 1750 Rim Rock Drive\, Fruita\, CO\, 81521\, United States
CATEGORIES:Talks & Presentations
ATTACH;FMTTYPE=image/jpeg:https://coloradonma.org/wp-content/uploads/slider9/ACCCOLM-00153_0614.jpeg
ORGANIZER;CN="Jes Rich":MAILTO:programs@coloradonma.org
END:VEVENT
BEGIN:VEVENT
DTSTART;TZID=America/Denver:20250829T060000
DTEND;TZID=America/Denver:20250829T090000
DTSTAMP:20260421T040559
CREATED:20250730T034417Z
LAST-MODIFIED:20250829T115714Z
UID:10000947-1756447200-1756458000@coloradonma.org
SUMMARY:CANCELED - Sunrise Paint & Hike on Otto's Trail
DESCRIPTION:Unfortunately\, this event has been canceled because of the weather. \n  \nJoin us for a sunrise morning hike on Otto’s Trail and plein air painting session with our Community Artist in the Park\, Monica Esposito. We’ll enjoy a short\, scenic hike as the sun rises over the stunning canyon landscape then we’ll create our own artwork inspired by nature.   \nMonica will demo how to get started on an outdoor painting\, give tips and techniques for speedy work and some suggestions for quick studies while using watercolor or gouache. All skill levels are welcome!  \nMonica Esposito is a fine art artist and registered nurse located in Grand Junction\, Colorado. Receiving her Bachelor of Fine Arts degree with a concentration in painting from the University of Texas in 2001. She has spent her life exploring the western landscape for her inspiration and credits the art and life of Georgia O’Keeffe as one of her strongest influences.    \nDetails:    \n\nDate: Friday\, August 29th\n\n\nTime: 6:00 AM- 9:00 AM \n\n\nLocation: Otto’s Trail– Meet at the trailhead \n\n\nRegistration: Risk forms must be signed prior to beginning the hike.   \n\n\nDistance: 1 mile\, easy hike roundtrip- Plan for a total of 3 hours of hiking and painting time.   \n\n\nBring: Plein air set up-Travel watercolor or gouache set\, paper\, brushes with an easel is recommended- You may sit on the ground if you like or bring a camping chair. Lots of water\, snacks\, sunscreen\, sunglasses and a hat. \n\n\nNote:Hike may be cancelled or postponed due to weather conditions. Park passes are required. Carpooling is encouraged.   
URL:https://coloradonma.org/event/sunrise-paint-hike-on-ottos-trail-08-27-25/
LOCATION:Otto’s Trail
CATEGORIES:Community Artist in Park
ATTACH;FMTTYPE=image/png:https://coloradonma.org/wp-content/uploads/2025/07/Copy-of-CAIP-2025-Logo.png
ORGANIZER;CN="Jes Rich":MAILTO:programs@coloradonma.org
END:VEVENT
END:VCALENDAR