BEGIN:VCALENDAR
VERSION:2.0
PRODID:-//Colorado National Monument Association - ECPv6.15.18//NONSGML v1.0//EN
CALSCALE:GREGORIAN
METHOD:PUBLISH
X-ORIGINAL-URL:https://coloradonma.org
X-WR-CALDESC:Events for Colorado National Monument Association
REFRESH-INTERVAL;VALUE=DURATION:PT1H
X-Robots-Tag:noindex
X-PUBLISHED-TTL:PT1H
BEGIN:VTIMEZONE
TZID:America/Denver
BEGIN:DAYLIGHT
TZOFFSETFROM:-0700
TZOFFSETTO:-0600
TZNAME:MDT
DTSTART:20220313T090000
END:DAYLIGHT
BEGIN:STANDARD
TZOFFSETFROM:-0600
TZOFFSETTO:-0700
TZNAME:MST
DTSTART:20221106T080000
END:STANDARD
BEGIN:DAYLIGHT
TZOFFSETFROM:-0700
TZOFFSETTO:-0600
TZNAME:MDT
DTSTART:20230312T090000
END:DAYLIGHT
BEGIN:STANDARD
TZOFFSETFROM:-0600
TZOFFSETTO:-0700
TZNAME:MST
DTSTART:20231105T080000
END:STANDARD
BEGIN:DAYLIGHT
TZOFFSETFROM:-0700
TZOFFSETTO:-0600
TZNAME:MDT
DTSTART:20240310T090000
END:DAYLIGHT
BEGIN:STANDARD
TZOFFSETFROM:-0600
TZOFFSETTO:-0700
TZNAME:MST
DTSTART:20241103T080000
END:STANDARD
BEGIN:DAYLIGHT
TZOFFSETFROM:-0700
TZOFFSETTO:-0600
TZNAME:MDT
DTSTART:20250309T090000
END:DAYLIGHT
BEGIN:STANDARD
TZOFFSETFROM:-0600
TZOFFSETTO:-0700
TZNAME:MST
DTSTART:20251102T080000
END:STANDARD
BEGIN:DAYLIGHT
TZOFFSETFROM:-0700
TZOFFSETTO:-0600
TZNAME:MDT
DTSTART:20260308T090000
END:DAYLIGHT
BEGIN:STANDARD
TZOFFSETFROM:-0600
TZOFFSETTO:-0700
TZNAME:MST
DTSTART:20261101T080000
END:STANDARD
END:VTIMEZONE
BEGIN:VEVENT
DTSTART;TZID=America/Denver:20250410T170000
DTEND;TZID=America/Denver:20250410T190000
DTSTAMP:20260424T090301
CREATED:20250325T172955Z
LAST-MODIFIED:20250325T172955Z
UID:10000928-1744304400-1744311600@coloradonma.org
SUMMARY:Meet & Greet at The Hot Tomato
DESCRIPTION:Colorado National Monument Association (CNMA) is The Hot Tomato’s nonprofit of the month this April. \nYou’re invited to ‘Meet & Greet’ CNMA on Thursday\, April 10th from 5pm-7pm. This informal event is an opportunity to connect\, learn\, and discover more about CNMA’s mission and work to help preserve and protect Colorado National Monument’s incredible landscape \nThe Hot Tomato is generously donating 1% of ALL sales during the month of April to CNMA. Consider eating pizza all month long to support our work. 🙂 \nWe are so grateful to The Hot Tomato for this excellent community partnership and for helping to protect public lands. \nIf you love Colorado National Monument and pizza\, we hope to see you there! \nNo registration required. \n—
URL:https://coloradonma.org/event/meet-greet-at-the-hot-tomato/
LOCATION:The Hot Tomato\, 124 N Mulberry St\, Fruita\, CO\, 81521\, United States
ATTACH;FMTTYPE=image/jpeg:https://coloradonma.org/wp-content/uploads/2025/03/Hot-Tomato-non-profit-of-the-month.jpg
ORGANIZER;CN="Crystal Tyndall":MAILTO:ctyndall@coloradonma.org
END:VEVENT
BEGIN:VEVENT
DTSTART;TZID=America/Denver:20250330T120000
DTEND;TZID=America/Denver:20250330T160000
DTSTAMP:20260424T090301
CREATED:20250318T184801Z
LAST-MODIFIED:20250325T173814Z
UID:10000923-1743336000-1743350400@coloradonma.org
SUMMARY:Social Cranks Supper Club at The Hot Tomato
DESCRIPTION:Spend your Sunday Brunch supporting Colorado National Monument Association! We are thrilled to be the non-profit beneficiary of this event hosted by our friends at The Hot Tomato. \nWhen: Sunday\, March 30th\, 12p-4p \nWhere: The Hot Tomato – Fruita\, CO \nWhat is Social Cranks?\nSocial Cranks Supper Club is a Fruita-Fancy ticketed food event where all proceeds from the meal benefit a local non-profit organization. With live jazz music by PB&J Jazz\, cocktails\, and a four course menu focused on local ingredients\, we get to offer you a different Hot Tomato experience than usual.  The brunch menu is inspired by a few hot tomato classics turned breakfast and creations made by staff that they are excited to share. Accommodations can be made for gluten-free and/or vegetarian options.  \nGet Your Tickets\nPurchase tickets by visiting The Hot Tomato’s website – Social Cranks Supper Club Ticket | hottomatopizza. \nSupper Club tickets are $50. Drink Ticket Add-On is an additional $30. \nGet your tickets today! Don’t miss out on this unique event. \n— \nWe are incredibly thankful to The Hot Tomato for supporting our mission.
URL:https://coloradonma.org/event/social-cranks-hot-tomato/
LOCATION:The Hot Tomato\, 124 N Mulberry St\, Fruita\, CO\, 81521\, United States
ATTACH;FMTTYPE=image/jpeg:https://coloradonma.org/wp-content/uploads/2025/03/Supper-club_Brunch.jpg
END:VEVENT
BEGIN:VEVENT
DTSTART;TZID=America/Denver:20240417T170000
DTEND;TZID=America/Denver:20240417T190000
DTSTAMP:20260424T090301
CREATED:20240318T214949Z
LAST-MODIFIED:20240318T215039Z
UID:10000882-1713373200-1713380400@coloradonma.org
SUMMARY:Celebrate CNMA's 60th at The Hot Tomato with Live Music by the Troy Douglas Band
DESCRIPTION:Colorado National Monument Association (CNMA) is The Hot Tomato’s nonprofit of the month this April. We are launching our concert series with an evening full of delicious pizza and live music. Learn more about CNMA and the work we are doing to support the monument. \nMusic by the Troy Douglas Band starts at 5:30pm. \nThe Hot Tomato is generously donating 1% of all sales during the month of April to Colorado National Monument Association (CNMA). We are so grateful for Hot Tomato being such an\nexcellent community partner and for helping to protect public lands! \nNo registration required. We hope to see you there to celebrate our 60th year!
URL:https://coloradonma.org/event/celebrate-cnma-60th-hot-tomato/
LOCATION:The Hot Tomato\, 124 N Mulberry St\, Fruita\, CO\, 81521\, United States
ATTACH;FMTTYPE=image/jpeg:https://coloradonma.org/wp-content/uploads/2024/03/3.jpg
ORGANIZER;CN="Crystal Tyndall":MAILTO:ctyndall@coloradonma.org
END:VEVENT
BEGIN:VEVENT
DTSTART;TZID=America/Denver:20230511T170000
DTEND;TZID=America/Denver:20230511T190000
DTSTAMP:20260424T090301
CREATED:20230504T214344Z
LAST-MODIFIED:20230509T205545Z
UID:10000023-1683824400-1683831600@coloradonma.org
SUMMARY:Desert Varnish: Those Rocks are ALIVE!
DESCRIPTION:Join Colorado National Monument Association (CNMA) for this special talk\, which starts at 6pm\, by Tim Beagley. It will focus on how desert varnish forms\, what it is made of\, the controversy surrounding it\, and how it fits into the definition of a biofilm. \nDuring the 5pm-7pm time you’ll have time to learn more about CNMA and the work we are doing for our beloved local national monument. \n 
URL:https://coloradonma.org/event/desert-varnish-those-rocks-are-alive/
LOCATION:The Hot Tomato\, 124 N Mulberry St\, Fruita\, CO\, 81521\, United States
CATEGORIES:Talks & Presentations
ATTACH;FMTTYPE=image/jpeg:https://coloradonma.org/wp-content/uploads/2023/05/Desert-Varnish-in-Fruita-Canyon-by-Tim-Beagley-scaled.jpg
ORGANIZER;CN="Crystal Tyndall":MAILTO:ctyndall@coloradonma.org
END:VEVENT
END:VCALENDAR